BEGIN:VCALENDAR
VERSION:2.0
PRODID:-//Langesund og Omegns Sjømannsforening - ECPv6.15.20//NONSGML v1.0//EN
CALSCALE:GREGORIAN
METHOD:PUBLISH
X-WR-CALNAME:Langesund og Omegns Sjømannsforening
X-ORIGINAL-URL:https://www.langesundsjomannsforening.com
X-WR-CALDESC:Arrangement for Langesund og Omegns Sjømannsforening
REFRESH-INTERVAL;VALUE=DURATION:PT1H
X-Robots-Tag:noindex
X-PUBLISHED-TTL:PT1H
BEGIN:VTIMEZONE
TZID:UTC
BEGIN:STANDARD
TZOFFSETFROM:+0000
TZOFFSETTO:+0000
TZNAME:UTC
DTSTART:20230101T000000
END:STANDARD
END:VTIMEZONE
BEGIN:VEVENT
DTSTART;TZID=UTC:20240529T080000
DTEND;TZID=UTC:20240529T170000
DTSTAMP:20260424T093857
CREATED:20240421T124306Z
LAST-MODIFIED:20240801T125248Z
UID:12455-1716969600-1717002000@www.langesundsjomannsforening.com
SUMMARY:29.05.24 Medlemsmøte - Tur med Magnus Reiser
DESCRIPTION: Hyggetur for Langesund Sjømannsforening onsdag 29. mai 2024. \n Marinemuseet i Horten\,  \n \nSjøfartsmuseet i Oslo \n \nog Color Line hjem \n \n  \n Avreise fra Langesund kl 09:00 og Stathelle kl 09:15 og turen går til Marinemuseet i Horten der vi får en guidet omvisning. Etter omvisning server vi litt å bite før turen går til Oslo og Sjøfartsmuseet med guidet omvisning. På bussturen til Sverige stopper vi på Høk kro for en enkel lunsj. Det blir tid for en handlestopp på Nordbyen og Systembolaget. Color Line har avgang fra Strømstad kl 20:00 og under overfarten serveres det mat. Vi er tilbake i Langesund kl. 23:30. \nTuren er for Langesund og Omegns Sjømannsforenings medlemmer med ledsagere. Vi vil også invitere gjester fra de andre sjømannsforeningene i vårt distrikt. Magnus må ha minimum 40 påmeldte til turen. Bussen har 54 sitteplasser. \n  \nPåmelding til Hallgeir Kjeldal innen 10.mai 2024 til telefon 950 32 782 eller på SMS. Bruk også Hallgeirs e-mail adresse hallgeir.kjeldal@bamble.kommune.no.\nHusk navn og fødselsdato på deltaker!!!\n Pris: kr 1.450.-inkluderer: \n\n\n\n\n  \n\n\nBussreisen \n\n\n\n\n \n\n\nKaffe og 2 halve rundstykker  \n\n\n\n\n \n\n\nGuide på Marinemuseet i Horten og Sjøfartsmuseet i Oslo  \n\n\n\n\n \n\n\nEnkel Lunsj på Høk kro  \n\n\n\n\n \n\n\nColor Line Strømstad – Sandefjord med bespisning  \nInnbetaling til konto: 2601 31 42768 – innen 10.mai 2024. Husk å skrive navn på betalingen.
URL:https://www.langesundsjomannsforening.com/event/29-05-24-medlemsmote-tur-med-magnus-reiser/
CATEGORIES:Besøk
END:VEVENT
END:VCALENDAR